BEGIN:VCALENDAR
VERSION:2.0
PRODID:-//Samaritan Hospital &amp; The Eddy Foundation - ECPv6.15.20//NONSGML v1.0//EN
CALSCALE:GREGORIAN
METHOD:PUBLISH
X-WR-CALNAME:Samaritan Hospital &amp; The Eddy Foundation
X-ORIGINAL-URL:https://www.givetosamandtheeddy.org
X-WR-CALDESC:Events for Samaritan Hospital &amp; The Eddy Foundation
REFRESH-INTERVAL;VALUE=DURATION:PT1H
X-Robots-Tag:noindex
X-PUBLISHED-TTL:PT1H
BEGIN:VTIMEZONE
TZID:America/New_York
BEGIN:DAYLIGHT
TZOFFSETFROM:-0500
TZOFFSETTO:-0400
TZNAME:EDT
DTSTART:20250309T070000
END:DAYLIGHT
BEGIN:STANDARD
TZOFFSETFROM:-0400
TZOFFSETTO:-0500
TZNAME:EST
DTSTART:20251102T060000
END:STANDARD
BEGIN:DAYLIGHT
TZOFFSETFROM:-0500
TZOFFSETTO:-0400
TZNAME:EDT
DTSTART:20260308T070000
END:DAYLIGHT
BEGIN:STANDARD
TZOFFSETFROM:-0400
TZOFFSETTO:-0500
TZNAME:EST
DTSTART:20261101T060000
END:STANDARD
BEGIN:DAYLIGHT
TZOFFSETFROM:-0500
TZOFFSETTO:-0400
TZNAME:EDT
DTSTART:20270314T070000
END:DAYLIGHT
BEGIN:STANDARD
TZOFFSETFROM:-0400
TZOFFSETTO:-0500
TZNAME:EST
DTSTART:20271107T060000
END:STANDARD
END:VTIMEZONE
BEGIN:VEVENT
DTSTART;TZID=America/New_York:20260501T173000
DTEND;TZID=America/New_York:20260501T230000
DTSTAMP:20260425T082615
CREATED:20231206T161150Z
LAST-MODIFIED:20260415T155807Z
UID:1453-1777656600-1777676400@www.givetosamandtheeddy.org
SUMMARY:Swinging on a Star
DESCRIPTION:
URL:https://www.givetosamandtheeddy.org/event/swinging-on-a-star/
LOCATION:Rivers Casino & Resort\, 1 Rush Street\, Schenectady\, NY\, 12305\, United States
END:VEVENT
BEGIN:VEVENT
DTSTART;VALUE=DATE:20260502
DTEND;VALUE=DATE:20260503
DTSTAMP:20260425T082615
CREATED:20220411T193138Z
LAST-MODIFIED:20260415T155718Z
UID:1105-1777680000-1777766399@www.givetosamandtheeddy.org
SUMMARY:Nancy B. Clemente Cancer Fund Golf Tournament
DESCRIPTION:
URL:https://www.givetosamandtheeddy.org/event/nancy-b-clemente-cancer-fund-golf-tournament/
LOCATION:NY
END:VEVENT
END:VCALENDAR